BEGIN:VCALENDAR
VERSION:2.0
PRODID:icalendar-ruby
CALSCALE:GREGORIAN
METHOD:PUBLISH
BEGIN:VEVENT
DTSTAMP:20260422T092056Z
UID:73bd47a8-7171-4616-a4d4-73be162ecf8d
DTSTART:20250419T120000
DTEND:20250419T130000
CLASS:PRIVATE
DESCRIPTION:Uma visita que nos permite conhecer a sociedade portuguesa dos 
 últimos 200 anos\, através das produções da 1ª fábrica portuguesa de
  porcelana -  a Vista Alegre - marca de referência nacional e internacion
 al.
LOCATION:Palácio Nacional da Ajuda - \nLargo da Ajuda\n \, 1349-021 Lisboa
ORGANIZER:Leonor Machado
SUMMARY:Vista Alegre\, 200 anos de criatividade - visita guiada
END:VEVENT
END:VCALENDAR
