BEGIN:VCALENDAR
VERSION:2.0
PRODID:icalendar-ruby
CALSCALE:GREGORIAN
METHOD:PUBLISH
BEGIN:VEVENT
DTSTAMP:20260422T093451Z
UID:f6772fc4-c8ca-4ba0-a02b-774fc2501f02
DTSTART:20250515T153000
DTEND:20250515T163000
CLASS:PRIVATE
DESCRIPTION:Uma visita que nos permite conhecer a sociedade portuguesa dos 
 últimos 200 anos\, através das produções da 1ª fábrica portuguesa de
  porcelana - a Vista Alegre - marca de referência nacional e internaciona
 l.
LOCATION:Palácio Nacional da Ajuda - Largo da Ajuda\, 1349-021  Lisboa
ORGANIZER:Leonor Machado
SUMMARY:Vista Alegre\, 200 anos de criatividade - visita guiada - 2ª ediç
 ão
END:VEVENT
END:VCALENDAR
