BEGIN:VCALENDAR
VERSION:2.0
PRODID:icalendar-ruby
CALSCALE:GREGORIAN
METHOD:PUBLISH
BEGIN:VEVENT
DTSTAMP:20260422T092040Z
UID:3ff0c0c9-9874-4ff0-b9af-e9f537566c33
DTSTART:20230111T130000
DTEND:20230111T134500
CLASS:PRIVATE
DESCRIPTION:Visita à exposição "Trono de Maria\, Lugar De Sabedoria" pat
 ente na Galeria Fundação Amélia de Mello
LOCATION:Galeria Fundação Amélia de Mello | UCP | Lisboa-Sede\, 1649-023
  Lisboa
ORGANIZER:Mariana da Silva Botelho
SUMMARY:Visita Guiada à Exposição "Trono de Maria\, Lugar De Sabedoria"
END:VEVENT
END:VCALENDAR
