BEGIN:VCALENDAR
VERSION:2.0
PRODID:icalendar-ruby
CALSCALE:GREGORIAN
METHOD:PUBLISH
BEGIN:VEVENT
DTSTAMP:20260422T091743Z
UID:e9655978-e8a1-4c73-a8a2-e445c0684f44
DTSTART:20211113T113000
DTEND:20211113T123000
CLASS:PRIVATE
DESCRIPTION:Visita guiada à Exposição Ai Weiwei Rapture\, em Lisboa.\n
LOCATION:Cordoaria Nacional\, Belém\, 1300-598 Lisboa
ORGANIZER:Mariana da Silva Botelho
SUMMARY:Visita Cultural – Exposição Ai Weiwei Rapture
END:VEVENT
END:VCALENDAR
