BEGIN:VCALENDAR
VERSION:2.0
PRODID:icalendar-ruby
CALSCALE:GREGORIAN
METHOD:PUBLISH
BEGIN:VEVENT
DTSTAMP:20260422T092441Z
UID:360a73d3-9bfd-43d5-92c6-425a9877a61c
DTSTART:20221129T121500
DTEND:20221129T133000
CLASS:PRIVATE
DESCRIPTION:Visita guiada à Galeria do Loreto\, da Mãe d’Água das Amor
 eiras ao Largo de S. Pedro de Alcântara\, em Lisboa.
LOCATION:Mãe d’Água das Amoreiras - Praça das Amoreiras\, nº 10\, 125
 0-020 Lisboa
ORGANIZER:Mariana da Silva Botelho
SUMMARY:Visita à Galeria do Loreto\, Mãe D’Água
END:VEVENT
END:VCALENDAR
