BEGIN:VCALENDAR
VERSION:2.0
PRODID:icalendar-ruby
CALSCALE:GREGORIAN
METHOD:PUBLISH
BEGIN:VEVENT
DTSTAMP:20260422T091537Z
UID:09f3ef81-c2c7-460e-b071-a4c7b826e675
DTSTART:20220521T110000
DTEND:20220521T123000
CLASS:PRIVATE
DESCRIPTION:Visita guiada ao Aqueduto das Águas Livres\, em Lisboa.
LOCATION:Calçada da Quintinha\, nº 6\, 1070-225 Lisboa
ORGANIZER:Mariana da Silva Botelho
SUMMARY:Travessia do Aqueduto das Águas Livres
END:VEVENT
END:VCALENDAR
