BEGIN:VCALENDAR
VERSION:2.0
PRODID:icalendar-ruby
CALSCALE:GREGORIAN
METHOD:PUBLISH
BEGIN:VEVENT
DTSTAMP:20260422T091927Z
UID:90cc9321-0fc6-4d30-9d8c-d2040c08f5b0
DTSTART:20230506T143000
DTEND:20230506T180000
CLASS:PRIVATE
DESCRIPTION:CATÓLICA KARTING . 6/05 @ Kartódromo Internacional de Palmela
LOCATION:KIP - Kartódromo Internacional de Palmela\, 2950-051 Palmela
ORGANIZER:Pedro Machado Melo
SUMMARY:Pé a fundo! Não é o 24h LeMans mas\, sim\, o 2º Católica Karti
 ng!
END:VEVENT
END:VCALENDAR
