BEGIN:VCALENDAR
VERSION:2.0
PRODID:icalendar-ruby
CALSCALE:GREGORIAN
METHOD:PUBLISH
BEGIN:VEVENT
DTSTAMP:20260422T091543Z
UID:8353a254-e6bd-4138-9812-fbd450a90515
DTSTART:20250930T140000
DTEND:20250930T150000
CLASS:PRIVATE
DESCRIPTION:Visita guia ao novo museu\, inaugurado em Belém\, que acolhe c
 erca de 1500 obras da coleção de arte de Julião Sarmento – falecido e
 m 2021 –\, um dos artistas portugueses com maior projeção internaciona
 l. 
LOCATION:Av. da Índia\, 172\, 1400-038  Lisboa
ORGANIZER:Leonor Machado
SUMMARY:Pavilhão Julião Sarmento - visita guiada
END:VEVENT
END:VCALENDAR
