BEGIN:VCALENDAR
VERSION:2.0
PRODID:icalendar-ruby
CALSCALE:GREGORIAN
METHOD:PUBLISH
BEGIN:VEVENT
DTSTAMP:20260422T090818Z
UID:92736326-50c6-464f-abc5-87482cbc437c
DTSTART:20250628T103000
DTEND:20250628T160000
CLASS:PRIVATE
DESCRIPTION:Visita Guiada ao Museu do Ar\, ao Palácio do Marquês de Pomba
 l e à Capela.\nAlmoço no restaurante Caneira\, em Negrais.
LOCATION:Granja do Marquês (junto à Base Aérea nº 1 - Sintra)\n\, 2715-
 021  Pero Pinheiro
ORGANIZER:Leonor Machado
SUMMARY:Museu do Ar 
END:VEVENT
END:VCALENDAR
