BEGIN:VCALENDAR
VERSION:2.0
PRODID:icalendar-ruby
CALSCALE:GREGORIAN
METHOD:PUBLISH
BEGIN:VEVENT
DTSTAMP:20260422T091921Z
UID:8be2ae52-974e-4a00-b52a-1ca7d1b9953a
DTSTART:20220623T190000
DTEND:20220623T194500
CLASS:PRIVATE
DESCRIPTION:Espetáculo imersivo sobre os mistérios do Antigo Egipto.
LOCATION:Reservatório da Mãe D’Água\, 1250-020 Lisboa
ORGANIZER:Mariana da Silva Botelho
SUMMARY:Misterioso Egito - Reservatório Mãe Água das Amoreiras
END:VEVENT
END:VCALENDAR
