BEGIN:VCALENDAR
VERSION:2.0
PRODID:icalendar-ruby
CALSCALE:GREGORIAN
METHOD:PUBLISH
BEGIN:VEVENT
DTSTAMP:20260422T091016Z
UID:aac7522f-9781-4bb2-989a-0f543abe9533
DTSTART:20251115T200000
DTEND:20251116T020000
CLASS:PRIVATE
DESCRIPTION:Aí está\, novamente\, o jantar e\, com ele\, mais uma oportun
 idade para estarmos juntos!
LOCATION:Rua Particular - Palacio Estoril Golf & Wellness Hotel\, 2769-504 
  Estoril
ORGANIZER:Leonor Machado
SUMMARY:Jantar Anual - 2025
END:VEVENT
END:VCALENDAR
