BEGIN:VCALENDAR
VERSION:2.0
PRODID:icalendar-ruby
CALSCALE:GREGORIAN
METHOD:PUBLISH
BEGIN:VEVENT
DTSTAMP:20260422T092247Z
UID:3a3c0f9f-2454-4d23-982a-9814d70fbe14
DTSTART:20220113T180000
DTEND:20220113T183000
CLASS:PRIVATE
DESCRIPTION:Exposição "Por Ser A Terra Muito Calmosa" de Rouzbeh Akhbari\
 , na Galeria Fundação Amélia de Mello.
LOCATION:Galeria Fundação Amélia de Mello - Universidade Católica Portu
 guesa\,  Edifício da Biblioteca Piso 1\, 1649-023 Lisboa
ORGANIZER:Mariana da Silva Botelho
SUMMARY:Exposição "Por Ser A Terra Muito Calmosa" - Rouzbeh Akhbari
END:VEVENT
END:VCALENDAR
