BEGIN:VCALENDAR
VERSION:2.0
PRODID:icalendar-ruby
CALSCALE:GREGORIAN
METHOD:PUBLISH
BEGIN:VEVENT
DTSTAMP:20260422T092206Z
UID:e14d95ec-82c0-4fd1-bfc1-64231991d923
DTSTART:20251125T123000
DTEND:20251125T130000
CLASS:PRIVATE
DESCRIPTION:A presente exposição reúne um conjunto de obras da artista p
 ertencentes à Coleção de Serralves e a importantes coleções em depós
 ito na Fundação\, permitindo reconhecer aspetos centrais e momentos dist
 intos do seu singular percurso artístico.
LOCATION:Galeria Fundação Amélia de Melo | UCP | Lisboa Sede \, 1649-023
  Lisboa
ORGANIZER:Leonor Machado
SUMMARY:Exposição "Helena Almeida. Habitar a obra" - visita guiada
END:VEVENT
END:VCALENDAR
