BEGIN:VCALENDAR
VERSION:2.0
PRODID:icalendar-ruby
CALSCALE:GREGORIAN
METHOD:PUBLISH
BEGIN:VEVENT
DTSTAMP:20260422T091831Z
UID:4223bcf5-9a3a-4f0e-aed8-3418ae6e9483
DTSTART:20241210T130000
DTEND:20241210T133000
CLASS:PRIVATE
DESCRIPTION:A exposição Enciclopédia Negra\, em parceria com Pinacoteca 
 de São Paulo e Escola das Artes da Universidade Católica\, faz parte de 
 um vasto projeto iniciado em 2016\, que pretende ampliar a visibilidade de
  personalidades negras pouco conhecidas até hoje. 
LOCATION:Galeria Fundação Amélia de Melo | UCP | Lisboa Sede\, 1649-023 
  Lisboa
ORGANIZER:Leonor Machado
SUMMARY:Exposição "Enciclopédia Negra" - visita guiada
END:VEVENT
END:VCALENDAR
