BEGIN:VCALENDAR
VERSION:2.0
PRODID:icalendar-ruby
CALSCALE:GREGORIAN
METHOD:PUBLISH
BEGIN:VEVENT
DTSTAMP:20260422T092324Z
UID:1f9947ca-6973-4963-9f69-187455a3b487
DTSTART:20240413T110000
DTEND:20240413T120000
CLASS:PRIVATE
DESCRIPTION:Usar um cartão de pagamento é\, hoje\, um gesto banal. Esse p
 equeno retângulo de plástico tornou-se parte do quotidiano\, mas será q
 ue conhece a sua origem?\nÉ isso que poderá descobrir na visita guiada 
 à exposição temporária do Museu do Dinheiro: “Dinheiro de Plástico 
 — A incrível história dos cartões bancários”.
LOCATION:Museu do Dinheiro | Banco de Portugal\, Largo de S. Julião\, 1100
 -150 Lisboa
ORGANIZER:Leonor Machado
SUMMARY:Dinheiro de Plástico — A incrível história dos cartões bancá
 rios | Museu do Dinheiro
END:VEVENT
END:VCALENDAR
