BEGIN:VCALENDAR
VERSION:2.0
PRODID:icalendar-ruby
CALSCALE:GREGORIAN
METHOD:PUBLISH
BEGIN:VEVENT
DTSTAMP:20260422T091326Z
UID:ac089915-613c-41d9-bc57-5c104eb0b86b
DTSTART:20250409T180000
DTEND:20250409T190000
CLASS:PRIVATE
DESCRIPTION:Têm pensado no impacto da inteligência artificial e de novas 
 tecnologias na vossa carreira? Convidamo-vos a experimentar um programa de
  orientação que pode ajudar-vos a pensar nessa e noutras questões relev
 antes para o vosso desenvolvimento profissional e transições de carreira
 .
LOCATION:Online
ORGANIZER:Leonor Machado
SUMMARY:Desenvolvimento e transições de carreira
END:VEVENT
END:VCALENDAR
