BEGIN:VCALENDAR
VERSION:2.0
PRODID:icalendar-ruby
CALSCALE:GREGORIAN
METHOD:PUBLISH
BEGIN:VEVENT
DTSTAMP:20260422T091500Z
UID:4f23d176-0224-48ae-a29f-a8df1c99961e
DTSTART:20250910T180000
DTEND:20250910T193000
CLASS:PRIVATE
DESCRIPTION:Organizada pelo Instituto de Estudos Políticos  - IEP - da Uni
 versidade Católica\, irá decorrer a “Conferência de Homenagem à Vida
  e Pensamento de Ernâni Lopes”\, durante a qual será apresentado o liv
 ro “Portugal\, Visões de Futuro”
LOCATION:Auditório Cardeal de Medeiros\, no 1º piso do Edifício da Bibli
 oteca João Paulo II\, na Universidade Católica Portuguesa\, 1649-028 Lis
 boa
ORGANIZER:Leonor Machado
SUMMARY:Conferência de Homenagem ao Prof. Ernâni Lopes
END:VEVENT
END:VCALENDAR
