BEGIN:VCALENDAR
VERSION:2.0
PRODID:icalendar-ruby
CALSCALE:GREGORIAN
METHOD:PUBLISH
BEGIN:VEVENT
DTSTAMP:20260422T091610Z
UID:2522f809-2a0d-476e-afb1-006096d67976
DTSTART:20250625T180000
DTEND:20250625T190000
CLASS:PRIVATE
DESCRIPTION:Como abrir espaço nas nossas vidas para refletir sobre o percu
 rso profissional e planos de carreira? 
LOCATION:Online
ORGANIZER:Leonor Machado
SUMMARY:'Check up' de desenvolvimento de carreira 
END:VEVENT
END:VCALENDAR
