BEGIN:VCALENDAR
VERSION:2.0
PRODID:icalendar-ruby
CALSCALE:GREGORIAN
METHOD:PUBLISH
BEGIN:VEVENT
DTSTAMP:20260422T091454Z
UID:b3785d8e-9fc6-45a7-bd39-465163b9053d
DTSTART:20251118T140000
DTEND:20251118T160000
CLASS:PRIVATE
DESCRIPTION:Visita guiada pelo próprio Francisco Capelo à coleção por s
 i doada\, em 2017\, à Santa Casa da Misericórdia de Lisboa.
LOCATION:Largo Trindade Coelho 22\, 1200-365 Lisboa
ORGANIZER:Leonor Machado
SUMMARY:Casa Ásia: Coleção Francisco Capelo 
END:VEVENT
END:VCALENDAR
