BEGIN:VCALENDAR
VERSION:2.0
PRODID:icalendar-ruby
CALSCALE:GREGORIAN
METHOD:PUBLISH
BEGIN:VEVENT
DTSTAMP:20260422T091714Z
UID:84bcaa52-1440-4ccb-8a2e-3c6db31d4541
DTSTART:20241204T140000
DTEND:20241204T153000
CLASS:PRIVATE
DESCRIPTION:Visita guiada pelo próprio Francisco Capelo à coleção por s
 i doada\, em 2017\, à Santa Casa da Misericórdia de Lisboa.
LOCATION:Largo Trindade Coelho 22\, 1200-365 Lisboa
ORGANIZER:Leonor Machado
SUMMARY:Casa Ásia: Coleção Francisco Capelo - visita guiada
END:VEVENT
END:VCALENDAR
