BEGIN:VCALENDAR
VERSION:2.0
PRODID:icalendar-ruby
CALSCALE:GREGORIAN
METHOD:PUBLISH
BEGIN:VEVENT
DTSTAMP:20260422T091409Z
UID:016b053c-a786-4340-8b5c-ca5ad2f75f6e
DTSTART:20250524T120000
DTEND:20250524T130000
CLASS:PRIVATE
DESCRIPTION:A Albuquerque Foundation é uma instituição cultural situada 
 em Sintra\, Portugal\, dedicada à apresentação e ao estudo de porcelana
  chinesa de exportação e de cerâmica contemporânea.
LOCATION:Rua António dos Reis\, 189\, Linhó\, 2710-302  Sintra
ORGANIZER:Leonor Machado
SUMMARY:Albuquerque Foundation - visita guiada - 2ª edição
END:VEVENT
END:VCALENDAR
