BEGIN:VCALENDAR
VERSION:2.0
PRODID:icalendar-ruby
CALSCALE:GREGORIAN
METHOD:PUBLISH
BEGIN:VEVENT
DTSTAMP:20260422T091954Z
UID:1a03be47-af97-47e0-b632-3748cb6801da
DTSTART:20251018T095000
DTEND:20251018T170000
CLASS:PRIVATE
DESCRIPTION:Passeio pela zona de Torres Vedras\, com visitas guiadas ao Con
 vento do Varatojo e à Igreja de Santo Quintino
LOCATION:Concentração na Universidade Católica Portuguesa (parque de est
 acionamento\, Palma de Cima)\, 1649-023 Lisboa
ORGANIZER:Leonor Machado
SUMMARY:36º Classic Drive - Convento do Varatojo e Igreja de Santo Quintin
 o
END:VEVENT
END:VCALENDAR
