BEGIN:VCALENDAR
VERSION:2.0
PRODID:icalendar-ruby
CALSCALE:GREGORIAN
METHOD:PUBLISH
BEGIN:VEVENT
DTSTAMP:20260422T091401Z
UID:1c62eb32-4b0e-43ef-b43d-ba14257a0ca8
DTSTART:20250222T093000
DTEND:20250222T170000
CLASS:PRIVATE
DESCRIPTION:Passeio até Mafra\, com visita ao Palácio Nacional\, seguido 
 de um passeio até à Malveira\, com almoço no Dream Guincho\, desfrutand
 o de uma vista única e maravilhosa sobre o mar.
LOCATION:Concentração na Universidade Católica Portuguesa (parque de est
 acionamento\, Palma de Cima)\, 1649-023 Lisboa
ORGANIZER:Leonor Machado
SUMMARY:34º Classic Drive - Palácio Nacional de Mafra 
END:VEVENT
END:VCALENDAR
