BEGIN:VCALENDAR
VERSION:2.0
PRODID:icalendar-ruby
CALSCALE:GREGORIAN
METHOD:PUBLISH
BEGIN:VEVENT
DTSTAMP:20260424T163503Z
UID:02bc3139-a40c-41a8-b963-8890dced2a48
DTSTART:20241101T110000
DTEND:20241101T170000
CLASS:PRIVATE
DESCRIPTION:Um Classic Drive exclusivamente gastronómico? Um almoço no ca
 mpo\,  uma valente churrascada\, uma tarde de convívio à volta de um por
 co a assar lentamente no espeto? Amigos com quem relaxar\, um dia feriado 
  e uma tarde repousante no Ribatejo? 
LOCATION:Concentração na área de serviço da Galp\, Aveiras\, na A1\, km
  44\,3\, x Soudos - Torres Novas
ORGANIZER:Leonor Machado
SUMMARY:33º Classic Drive - Porco no Espeto na Quinta da Cerca - Soudos
END:VEVENT
END:VCALENDAR
