BEGIN:VCALENDAR
VERSION:2.0
PRODID:icalendar-ruby
CALSCALE:GREGORIAN
METHOD:PUBLISH
BEGIN:VEVENT
DTSTAMP:20260422T091701Z
UID:1a5a26ab-886d-431a-97bb-03137059a01e
DTSTART:20240622T120000
DTEND:20240622T170000
CLASS:PRIVATE
DESCRIPTION:Visita ao Museu da Vista Alegre e almoço no Hotel Montebelo Vi
 sta Alegre\, com possibilidade de dormida de 21 para 22 de Junho
LOCATION:	\nMontebelo Vista Alegre Ílhavo Hotel\nLugar da Vista Alegre\n\,
  3830-292  Ílhavo
ORGANIZER:Leonor Machado
SUMMARY:31º Classic Drive - Museu da Vista Alegre - Ílhavo
END:VEVENT
END:VCALENDAR
